BEGIN:VCALENDAR
VERSION:2.0
PRODID:-//Ronald IJmker - ECPv6.15.20//NONSGML v1.0//EN
CALSCALE:GREGORIAN
METHOD:PUBLISH
X-WR-CALNAME:Ronald IJmker
X-ORIGINAL-URL:https://ronaldijmker.nl
X-WR-CALDESC:Evenementen voor Ronald IJmker
REFRESH-INTERVAL;VALUE=DURATION:PT1H
X-Robots-Tag:noindex
X-PUBLISHED-TTL:PT1H
BEGIN:VTIMEZONE
TZID:Europe/Amsterdam
BEGIN:DAYLIGHT
TZOFFSETFROM:+0100
TZOFFSETTO:+0200
TZNAME:CEST
DTSTART:20250330T010000
END:DAYLIGHT
BEGIN:STANDARD
TZOFFSETFROM:+0200
TZOFFSETTO:+0100
TZNAME:CET
DTSTART:20251026T010000
END:STANDARD
BEGIN:DAYLIGHT
TZOFFSETFROM:+0100
TZOFFSETTO:+0200
TZNAME:CEST
DTSTART:20260329T010000
END:DAYLIGHT
BEGIN:STANDARD
TZOFFSETFROM:+0200
TZOFFSETTO:+0100
TZNAME:CET
DTSTART:20261025T010000
END:STANDARD
BEGIN:DAYLIGHT
TZOFFSETFROM:+0100
TZOFFSETTO:+0200
TZNAME:CEST
DTSTART:20270328T010000
END:DAYLIGHT
BEGIN:STANDARD
TZOFFSETFROM:+0200
TZOFFSETTO:+0100
TZNAME:CET
DTSTART:20271031T010000
END:STANDARD
END:VTIMEZONE
BEGIN:VEVENT
DTSTART;TZID=Europe/Amsterdam:20260503T160000
DTEND;TZID=Europe/Amsterdam:20260503T173000
DTSTAMP:20260424T181214
CREATED:20260223T221054Z
LAST-MODIFIED:20260223T221054Z
UID:1896-1777824000-1777829400@ronaldijmker.nl
SUMMARY:Zangdienst met Christelijk Mannenkoor Assen
DESCRIPTION:Christelijk Mannenkoor Assen o.l.v. Bert Duijst \nRonald IJmker – orgel
URL:https://ronaldijmker.nl/agenda/zangdienst-met-christelijk-mannenkoor-assen/
LOCATION:Maranathakerk\, Bedum\, Kleinestraat 4\, Bedum
CATEGORIES:Medewerking kerkdienst
END:VEVENT
BEGIN:VEVENT
DTSTART;TZID=Europe/Amsterdam:20260531T100000
DTEND;TZID=Europe/Amsterdam:20260531T113000
DTSTAMP:20260424T181214
CREATED:20260223T221228Z
LAST-MODIFIED:20260223T221228Z
UID:1900-1780221600-1780227000@ronaldijmker.nl
SUMMARY:Kerkdienst met Polyphonie
DESCRIPTION:CGGK ‘Polyphonie’ o.l.v. Ronald IJmker
URL:https://ronaldijmker.nl/agenda/kerkdienst-met-polyphonie/
LOCATION:Baptistenkerk-Noord\, Stadskanaal\, Handelskade 8a\, Stadskanaal
CATEGORIES:Medewerking kerkdienst
END:VEVENT
BEGIN:VEVENT
DTSTART;TZID=Europe/Amsterdam:20260531T190000
DTEND;TZID=Europe/Amsterdam:20260531T203000
DTSTAMP:20260424T181214
CREATED:20260223T221308Z
LAST-MODIFIED:20260223T221308Z
UID:1902-1780254000-1780259400@ronaldijmker.nl
SUMMARY:Zangdienst met VocalSpirit
DESCRIPTION:VocalSpirit o.l.v. Ronald IJmker
URL:https://ronaldijmker.nl/agenda/zangdienst-met-vocalspirit/
LOCATION:Oosterkadekerk\, Stadskanaal\, Oosterkade 5\, Stadskanaal
CATEGORIES:Medewerking kerkdienst
END:VEVENT
BEGIN:VEVENT
DTSTART;TZID=Europe/Amsterdam:20260621T080000
DTEND;TZID=Europe/Amsterdam:20260621T203000
DTSTAMP:20260424T181214
CREATED:20260423T100708Z
LAST-MODIFIED:20260423T100708Z
UID:2001-1782028800-1782073800@ronaldijmker.nl
SUMMARY:Zangdienst met Christelijk Mannenkoor Stadskanaal
DESCRIPTION:Christelijk Mannenkoor Stadskanaal o.l.v. Harold Kooij \nRonald IJmker – orgel \n 
URL:https://ronaldijmker.nl/agenda/zangdienst-met-christelijk-mannenkoor-stadskanaal/
LOCATION:Bartolomeuskerk\, Beerta\, Hoofdstraat 263\, Beerta
CATEGORIES:Medewerking kerkdienst
END:VEVENT
BEGIN:VEVENT
DTSTART;TZID=Europe/Amsterdam:20260628T190000
DTEND;TZID=Europe/Amsterdam:20260628T203000
DTSTAMP:20260424T181214
CREATED:20260223T221454Z
LAST-MODIFIED:20260223T221454Z
UID:1906-1782673200-1782678600@ronaldijmker.nl
SUMMARY:Zangdienst Beilen met HCM Ensemble
DESCRIPTION:HCM Ensemble o.l.v. Herman Boerman \nRonald IJmker – orgel/piano
URL:https://ronaldijmker.nl/agenda/zangdienst-beilen-met-hcm-ensemble/
LOCATION:Stefanuskerk\, Beilen\, Prins Bernhardstraat 12\, Beilen
CATEGORIES:Medewerking kerkdienst
END:VEVENT
BEGIN:VEVENT
DTSTART;TZID=Europe/Amsterdam:20260920T190000
DTEND;TZID=Europe/Amsterdam:20260920T203000
DTSTAMP:20260424T181214
CREATED:20260423T100821Z
LAST-MODIFIED:20260423T100821Z
UID:2004-1789930800-1789936200@ronaldijmker.nl
SUMMARY:Kampen Zingt
DESCRIPTION:Samenzang o.l.v. Jan Quintus Zwart \nRonald IJmker – orgel
URL:https://ronaldijmker.nl/agenda/kampen-zingt-2/
LOCATION:Bovenkerk\, Kampen\, Koornmarkt 28\, Kampen
CATEGORIES:Medewerking kerkdienst
END:VEVENT
BEGIN:VEVENT
DTSTART;TZID=Europe/Amsterdam:20261018T100000
DTEND;TZID=Europe/Amsterdam:20261018T113000
DTSTAMP:20260424T181214
CREATED:20260423T100916Z
LAST-MODIFIED:20260423T100916Z
UID:2006-1792317600-1792323000@ronaldijmker.nl
SUMMARY:Medewerking Kerkdienst met VocalSpirit
DESCRIPTION:VocalSpirit o.l.v. Ronald IJmker
URL:https://ronaldijmker.nl/agenda/medewerking-kerkdienst-met-vocalspirit/
LOCATION:Baptistenkerk-Noord\, Stadskanaal\, Handelskade 8a\, Stadskanaal
CATEGORIES:Medewerking kerkdienst
END:VEVENT
BEGIN:VEVENT
DTSTART;TZID=Europe/Amsterdam:20261025T190000
DTEND;TZID=Europe/Amsterdam:20261025T203000
DTSTAMP:20260424T181214
CREATED:20260423T101033Z
LAST-MODIFIED:20260423T101033Z
UID:2008-1792954800-1792960200@ronaldijmker.nl
SUMMARY:Medewerking zangdienst met Christelijk Mannenkoor Assen
DESCRIPTION:Christelijk Mannenkoor Assen o.l.v. Bert Duijst \nRonald IJmker – orgel \n 
URL:https://ronaldijmker.nl/agenda/medewerking-zangdienst-met-christelijk-mannenkoor-assen/
LOCATION:Oosterkadekerk\, Stadskanaal\, Oosterkade 5\, Stadskanaal
CATEGORIES:Medewerking kerkdienst
END:VEVENT
BEGIN:VEVENT
DTSTART;TZID=Europe/Amsterdam:20261101T080000
DTEND;TZID=Europe/Amsterdam:20261101T170000
DTSTAMP:20260424T181214
CREATED:20260423T101133Z
LAST-MODIFIED:20260423T101133Z
UID:2010-1793520000-1793552400@ronaldijmker.nl
SUMMARY:Medewerking kerkdienst met VocalSpirit
DESCRIPTION:VocalSpirit o.l.v. Ronald IJmker
URL:https://ronaldijmker.nl/agenda/medewerking-kerkdienst-met-vocalspirit-2/
LOCATION:Protestantse Gemeente\, Musselkanaal\, Marktstraat 44\, Musselkanaal
CATEGORIES:Medewerking kerkdienst
END:VEVENT
BEGIN:VEVENT
DTSTART;TZID=Europe/Amsterdam:20261115T190000
DTEND;TZID=Europe/Amsterdam:20261115T203000
DTSTAMP:20260424T181214
CREATED:20260423T101238Z
LAST-MODIFIED:20260423T101238Z
UID:2012-1794769200-1794774600@ronaldijmker.nl
SUMMARY:Zangdienst Steenwijk met Christelijk Mannenkoor Assen
DESCRIPTION:Christelijk Mannenkoor Assen o.l.v. Bert Duijst \nRonald IJmker – orgel
URL:https://ronaldijmker.nl/agenda/zangdienst-steenwijk-met-christelijk-mannenkoor-assen/
LOCATION:Grote of St. Clemenskerk\, Steenwijk\, Kerkstraat 16\, Steenwijk
CATEGORIES:Medewerking kerkdienst
END:VEVENT
BEGIN:VEVENT
DTSTART;TZID=Europe/Amsterdam:20261122T190000
DTEND;TZID=Europe/Amsterdam:20261122T203000
DTSTAMP:20260424T181214
CREATED:20260423T101408Z
LAST-MODIFIED:20260423T101408Z
UID:2014-1795374000-1795379400@ronaldijmker.nl
SUMMARY:Welkomstdienst Assen
DESCRIPTION:Ronald IJmker – orgel
URL:https://ronaldijmker.nl/agenda/welkomstdienst-assen/
LOCATION:Jozefkerk\, Assen\, Collardslaan 2A\, Assen
CATEGORIES:Medewerking kerkdienst
END:VEVENT
BEGIN:VEVENT
DTSTART;TZID=Europe/Amsterdam:20261213T100000
DTEND;TZID=Europe/Amsterdam:20261213T113000
DTSTAMP:20260424T181214
CREATED:20260423T101544Z
LAST-MODIFIED:20260423T101544Z
UID:2016-1797156000-1797161400@ronaldijmker.nl
SUMMARY:Medewerking kerkdienst met VocalSpirit
DESCRIPTION:VocalSpirit o.l.v. Ronald IJmker
URL:https://ronaldijmker.nl/agenda/medewerking-kerkdienst-met-vocalspirit-3/
LOCATION:De Voorhof\, Westerbork\, Hoogeveenseweg 4\, Westerbork
CATEGORIES:Medewerking kerkdienst
END:VEVENT
BEGIN:VEVENT
DTSTART;TZID=Europe/Amsterdam:20261220T100000
DTEND;TZID=Europe/Amsterdam:20261220T113000
DTSTAMP:20260424T181214
CREATED:20260423T101711Z
LAST-MODIFIED:20260423T101711Z
UID:2019-1797760800-1797766200@ronaldijmker.nl
SUMMARY:Medewerking kerkdienst met Polyphonie
DESCRIPTION:CGGK Polyphonie o.l.v. Ronald IJmker
URL:https://ronaldijmker.nl/agenda/medewerking-kerkdienst-met-polyphonie/
LOCATION:Baptistenkerk-Noord\, Stadskanaal\, Handelskade 8a\, Stadskanaal
CATEGORIES:Medewerking kerkdienst
END:VEVENT
BEGIN:VEVENT
DTSTART;TZID=Europe/Amsterdam:20261220T190000
DTEND;TZID=Europe/Amsterdam:20261220T203000
DTSTAMP:20260424T181214
CREATED:20260423T101813Z
LAST-MODIFIED:20260423T101813Z
UID:2021-1797793200-1797798600@ronaldijmker.nl
SUMMARY:Kerstzangdienst met Zon en Zegen
DESCRIPTION:Christelijk Gemengd Koor ‘Zon en Zegen’ o.l.v. Marijn de Jong \nRonald IJmker – orgel
URL:https://ronaldijmker.nl/agenda/kerstzangdienst-met-zon-en-zegen/
LOCATION:De Voorhof\, Biddinghuizen\, Akkerhof 3\, Biddinghuizen
CATEGORIES:Medewerking kerkdienst
END:VEVENT
END:VCALENDAR